BEGIN:VCALENDAR
VERSION:2.0
PRODID:-//Flick Flack Theater - ECPv6.15.11//NONSGML v1.0//EN
CALSCALE:GREGORIAN
METHOD:PUBLISH
X-WR-CALNAME:Flick Flack Theater
X-ORIGINAL-URL:https://flickflack-theater.de
X-WR-CALDESC:Veranstaltungen für Flick Flack Theater
REFRESH-INTERVAL;VALUE=DURATION:PT1H
X-Robots-Tag:noindex
X-PUBLISHED-TTL:PT1H
BEGIN:VTIMEZONE
TZID:Europe/Berlin
BEGIN:DAYLIGHT
TZOFFSETFROM:+0100
TZOFFSETTO:+0200
TZNAME:CEST
DTSTART:20250330T010000
END:DAYLIGHT
BEGIN:STANDARD
TZOFFSETFROM:+0200
TZOFFSETTO:+0100
TZNAME:CET
DTSTART:20251026T010000
END:STANDARD
BEGIN:DAYLIGHT
TZOFFSETFROM:+0100
TZOFFSETTO:+0200
TZNAME:CEST
DTSTART:20260329T010000
END:DAYLIGHT
BEGIN:STANDARD
TZOFFSETFROM:+0200
TZOFFSETTO:+0100
TZNAME:CET
DTSTART:20261025T010000
END:STANDARD
BEGIN:DAYLIGHT
TZOFFSETFROM:+0100
TZOFFSETTO:+0200
TZNAME:CEST
DTSTART:20270328T010000
END:DAYLIGHT
BEGIN:STANDARD
TZOFFSETFROM:+0200
TZOFFSETTO:+0100
TZNAME:CET
DTSTART:20271031T010000
END:STANDARD
END:VTIMEZONE
BEGIN:VEVENT
DTSTART;TZID=Europe/Berlin:20260425T170000
DTEND;TZID=Europe/Berlin:20260425T170000
DTSTAMP:20260420T032958
CREATED:20251011T162126Z
LAST-MODIFIED:20251011T162423Z
UID:10000063-1777136400-1777136400@flickflack-theater.de
SUMMARY:Arielle
DESCRIPTION:Aufgeführt von der Midi Gruppe des Flick Flack Theater. \n 
URL:https://flickflack-theater.de/shows/arielle/2026-04-25/
LOCATION:Jugendzentrum Schwelm\, Märkische Str. 16\, Schwelm\, 58332\, Germany
CATEGORIES:Midis
ATTACH;FMTTYPE=image/png:https://flickflack-theater.de/wp-content/uploads/2025/06/Arielle.png
END:VEVENT
BEGIN:VEVENT
DTSTART;TZID=Europe/Berlin:20260509T170000
DTEND;TZID=Europe/Berlin:20260509T170000
DTSTAMP:20260420T032958
CREATED:20251011T162126Z
LAST-MODIFIED:20251011T162423Z
UID:10000064-1778346000-1778346000@flickflack-theater.de
SUMMARY:Arielle
DESCRIPTION:Aufgeführt von der Midi Gruppe des Flick Flack Theater. \n 
URL:https://flickflack-theater.de/shows/arielle/2026-05-09/
LOCATION:Jugendzentrum Schwelm\, Märkische Str. 16\, Schwelm\, 58332\, Germany
CATEGORIES:Midis
ATTACH;FMTTYPE=image/png:https://flickflack-theater.de/wp-content/uploads/2025/06/Arielle.png
END:VEVENT
BEGIN:VEVENT
DTSTART;TZID=Europe/Berlin:20260613T170000
DTEND;TZID=Europe/Berlin:20260613T170000
DTSTAMP:20260420T032958
CREATED:20251011T161513Z
LAST-MODIFIED:20251011T162544Z
UID:10000058-1781370000-1781370000@flickflack-theater.de
SUMMARY:Dracula - Das Grusical
DESCRIPTION:Aufgeführt von der Maxi Gruppe des Flick Flack Theater.
URL:https://flickflack-theater.de/shows/dracula-das-grusical/2026-06-13/
LOCATION:Realschule Alte Geer\, Alte Geer 4\, Gevelsberg\, Germany
CATEGORIES:Maxis
ATTACH;FMTTYPE=image/jpeg:https://flickflack-theater.de/wp-content/uploads/2025/06/Dracula-Das-Grusical-scaled.jpg
END:VEVENT
BEGIN:VEVENT
DTSTART;TZID=Europe/Berlin:20260614T170000
DTEND;TZID=Europe/Berlin:20260614T170000
DTSTAMP:20260420T032958
CREATED:20251011T161513Z
LAST-MODIFIED:20251011T162544Z
UID:10000059-1781456400-1781456400@flickflack-theater.de
SUMMARY:Dracula - Das Grusical
DESCRIPTION:Aufgeführt von der Maxi Gruppe des Flick Flack Theater.
URL:https://flickflack-theater.de/shows/dracula-das-grusical/2026-06-14/
LOCATION:Realschule Alte Geer\, Alte Geer 4\, Gevelsberg\, Germany
CATEGORIES:Maxis
ATTACH;FMTTYPE=image/jpeg:https://flickflack-theater.de/wp-content/uploads/2025/06/Dracula-Das-Grusical-scaled.jpg
END:VEVENT
BEGIN:VEVENT
DTSTART;TZID=Europe/Berlin:20260620T170000
DTEND;TZID=Europe/Berlin:20260620T170000
DTSTAMP:20260420T032958
CREATED:20251011T161513Z
LAST-MODIFIED:20251011T162544Z
UID:10000060-1781974800-1781974800@flickflack-theater.de
SUMMARY:Dracula - Das Grusical
DESCRIPTION:Aufgeführt von der Maxi Gruppe des Flick Flack Theater.
URL:https://flickflack-theater.de/shows/dracula-das-grusical/2026-06-20/
LOCATION:Realschule Alte Geer\, Alte Geer 4\, Gevelsberg\, Germany
CATEGORIES:Maxis
ATTACH;FMTTYPE=image/jpeg:https://flickflack-theater.de/wp-content/uploads/2025/06/Dracula-Das-Grusical-scaled.jpg
END:VEVENT
BEGIN:VEVENT
DTSTART;TZID=Europe/Berlin:20260621T170000
DTEND;TZID=Europe/Berlin:20260621T170000
DTSTAMP:20260420T032958
CREATED:20251011T161513Z
LAST-MODIFIED:20251011T162544Z
UID:10000061-1782061200-1782061200@flickflack-theater.de
SUMMARY:Dracula - Das Grusical
DESCRIPTION:Aufgeführt von der Maxi Gruppe des Flick Flack Theater.
URL:https://flickflack-theater.de/shows/dracula-das-grusical/2026-06-21/
LOCATION:Realschule Alte Geer\, Alte Geer 4\, Gevelsberg\, Germany
CATEGORIES:Maxis
ATTACH;FMTTYPE=image/jpeg:https://flickflack-theater.de/wp-content/uploads/2025/06/Dracula-Das-Grusical-scaled.jpg
END:VEVENT
BEGIN:VEVENT
DTSTART;TZID=Europe/Berlin:20261121T170000
DTEND;TZID=Europe/Berlin:20261121T170000
DTSTAMP:20260420T032958
CREATED:20251011T162832Z
LAST-MODIFIED:20251111T062147Z
UID:10000070-1795280400-1795280400@flickflack-theater.de
SUMMARY:Die Eiskristallkönigin
DESCRIPTION:Ein Weihnachtsmärchen aufgeführt von Darsteller:innen aus all den Gruppen des Flick Flack Theater.
URL:https://flickflack-theater.de/shows/die-eiskristallkoenigin/2026-11-21/
LOCATION:Jugendzentrum Schwelm\, Märkische Str. 16\, Schwelm\, 58332\, Germany
CATEGORIES:Maximum,Maxis,Midi Plus,Midis
ATTACH;FMTTYPE=image/png:https://flickflack-theater.de/wp-content/uploads/2025/06/Die-Schneekoenigin.png
END:VEVENT
BEGIN:VEVENT
DTSTART;TZID=Europe/Berlin:20261128T170000
DTEND;TZID=Europe/Berlin:20261128T170000
DTSTAMP:20260420T032958
CREATED:20251011T162832Z
LAST-MODIFIED:20251111T062147Z
UID:10000069-1795885200-1795885200@flickflack-theater.de
SUMMARY:Die Eiskristallkönigin
DESCRIPTION:Ein Weihnachtsmärchen aufgeführt von Darsteller:innen aus all den Gruppen des Flick Flack Theater.
URL:https://flickflack-theater.de/shows/die-eiskristallkoenigin/2026-11-28/
LOCATION:Jugendzentrum Schwelm\, Märkische Str. 16\, Schwelm\, 58332\, Germany
CATEGORIES:Maximum,Maxis,Midi Plus,Midis
ATTACH;FMTTYPE=image/png:https://flickflack-theater.de/wp-content/uploads/2025/06/Die-Schneekoenigin.png
END:VEVENT
END:VCALENDAR